BEGIN:VCALENDAR
VERSION:2.0
PRODID:-//MC Squared Co-Working - ECPv5.1.6//NONSGML v1.0//EN
CALSCALE:GREGORIAN
METHOD:PUBLISH
X-WR-CALNAME:MC Squared Co-Working
X-ORIGINAL-URL:https://rentstoughton.com
X-WR-CALDESC:Events for MC Squared Co-Working
BEGIN:VTIMEZONE
TZID:UTC
BEGIN:STANDARD
TZOFFSETFROM:+0000
TZOFFSETTO:+0000
TZNAME:UTC
DTSTART:20200101T000000
END:STANDARD
END:VTIMEZONE
BEGIN:VEVENT
DTSTART;TZID=UTC:20200210T170000
DTEND;TZID=UTC:20200210T180000
DTSTAMP:20260419T151256
CREATED:20200120T152654Z
LAST-MODIFIED:20200120T184756Z
UID:172-1581354000-1581357600@rentstoughton.com
SUMMARY:FIRPTA Training
DESCRIPTION:Join Fidelity National Title for a Free Seminar \n\nForeign Investment In Real Property Tax Act ( FIRPTA )\nInterpretation of FIRPTA\nYour Responsibility as an agent for your buyers and sellers\nHow Does this affect my buyer or seller?\nTitle company responsibility or not\nThe process with Fidelity National Title acting as a  “Qualified intermediary”\nThe form vs. the verification\nWhat to say or  “not say” when talking about FIRPTA\n\n  \nPLEASE RSVP \n\n\n\n\nName(required)\n\n	\n\n\nEmail(required)\n\n	\n\n\nPhone Number\n\n	\n	\n		Submit		\n		\n		\n	 \n\n\n 
URL:https://rentstoughton.com/event/firpta-training
END:VEVENT
END:VCALENDAR