BEGIN:VCALENDAR
VERSION:2.0
PRODID:-//MC Squared Co-Working - ECPv5.1.6//NONSGML v1.0//EN
CALSCALE:GREGORIAN
METHOD:PUBLISH
X-WR-CALNAME:MC Squared Co-Working
X-ORIGINAL-URL:https://rentstoughton.com
X-WR-CALDESC:Events for MC Squared Co-Working
BEGIN:VTIMEZONE
TZID:UTC
BEGIN:STANDARD
TZOFFSETFROM:+0000
TZOFFSETTO:+0000
TZNAME:UTC
DTSTART:20200101T000000
END:STANDARD
END:VTIMEZONE
BEGIN:VEVENT
DTSTART;TZID=UTC:20200225T120000
DTEND;TZID=UTC:20200225T130000
DTSTAMP:20260421T095643
CREATED:20200213T031649Z
LAST-MODIFIED:20200213T033635Z
UID:207-1582632000-1582635600@rentstoughton.com
SUMMARY:How to Keep the Home Inspection from Killing the Deal
DESCRIPTION:Lunch and Learn \n214 S. Forrest St. \nDuring this informative and entertaining session you will learn \n\nTo manage emotions on both sides of the transaction\nPrepare the Home for the inspection\nDeal with the inspection report\nKeep It Positive\n\n  \nFood and drinks will be provided.  Please RSVP! \n  \n\n\n\n\nName(required)\n\n	\n\n\nEmail(required)\n\n	\n\n\nPhone Number\n\n	\n	\n		Submit
URL:https://rentstoughton.com/event/how-to-keep-the-home-inspection-from-killing-the-deal
LOCATION:MC Squared Building\, 214 S Forrest St\, Stoughton\, WI\, 53589\, United States
END:VEVENT
END:VCALENDAR